Package: Nebulosa Version: 1.14.0 Command: /home/biocbuild/R/R-beta-2024-04-15_r86425/bin/R CMD build --keep-empty-dirs --no-resave-data Nebulosa StartedAt: 2024-05-09 02:05:29 -0000 (Thu, 09 May 2024) EndedAt: 2024-05-09 02:09:58 -0000 (Thu, 09 May 2024) EllapsedTime: 268.4 seconds RetCode: 0 Status: OK PackageFile: Nebulosa_1.14.0.tar.gz PackageFileSize: 1.71 MiB