Package: Nebulosa Version: 1.14.0 Command: rm -rf Nebulosa.buildbin-libdir && mkdir Nebulosa.buildbin-libdir && /Users/biocbuild/BBS/utils/build-universal.sh Nebulosa_1.14.0.tar.gz /Library/Frameworks/R.framework/Resources/bin/R Nebulosa.buildbin-libdir StartedAt: 2024-06-11 12:18:34 -0400 (Tue, 11 Jun 2024) EndedAt: 2024-06-11 12:19:31 -0400 (Tue, 11 Jun 2024) EllapsedTime: 57.2 seconds RetCode: 0 Status: OK PackageFile: Nebulosa_1.14.0.tgz PackageFileSize: 3.735 MiB