Package: MethTargetedNGS Version: 1.36.0 Command: rm -rf MethTargetedNGS.buildbin-libdir && mkdir MethTargetedNGS.buildbin-libdir && /Users/biocbuild/BBS/utils/build-universal.sh MethTargetedNGS_1.36.0.tar.gz /Library/Frameworks/R.framework/Resources/bin/R MethTargetedNGS.buildbin-libdir StartedAt: 2024-10-17 16:33:29 -0400 (Thu, 17 Oct 2024) EndedAt: 2024-10-17 16:34:00 -0400 (Thu, 17 Oct 2024) EllapsedTime: 31.1 seconds RetCode: 0 Status: OK PackageFile: MethTargetedNGS_1.36.0.tgz PackageFileSize: 322.1 KiB