Package: MetaVolcanoR Version: 1.18.0 Command: rm -rf MetaVolcanoR.buildbin-libdir && mkdir MetaVolcanoR.buildbin-libdir && /Users/biocbuild/BBS/utils/build-universal.sh MetaVolcanoR_1.18.0.tar.gz /Library/Frameworks/R.framework/Resources/bin/R MetaVolcanoR.buildbin-libdir StartedAt: 2024-06-10 00:26:16 -0400 (Mon, 10 Jun 2024) EndedAt: 2024-06-10 00:26:25 -0400 (Mon, 10 Jun 2024) EllapsedTime: 9.1 seconds RetCode: 0 Status: OK PackageFile: MetaVolcanoR_1.18.0.tgz PackageFileSize: 2.118 MiB