Package: MetNet Version: 1.22.0 Command: rm -rf MetNet.buildbin-libdir && mkdir MetNet.buildbin-libdir && /Users/biocbuild/BBS/utils/build-universal.sh MetNet_1.22.0.tar.gz /Library/Frameworks/R.framework/Resources/bin/R MetNet.buildbin-libdir StartedAt: 2024-10-18 19:24:43 -0400 (Fri, 18 Oct 2024) EndedAt: 2024-10-18 19:25:23 -0400 (Fri, 18 Oct 2024) EllapsedTime: 39.7 seconds RetCode: 0 Status: OK PackageFile: MetNet_1.22.0.tgz PackageFileSize: 4.335 MiB