Package: MeasurementError.cor Version: 1.76.0 Command: rm -rf MeasurementError.cor.buildbin-libdir && mkdir MeasurementError.cor.buildbin-libdir && E:\biocbuild\bbs-3.19-bioc\R\bin\R.exe CMD INSTALL --build --library=MeasurementError.cor.buildbin-libdir MeasurementError.cor_1.76.0.tar.gz StartedAt: 2024-10-17 08:05:38 -0400 (Thu, 17 Oct 2024) EndedAt: 2024-10-17 08:05:47 -0400 (Thu, 17 Oct 2024) EllapsedTime: 8.7 seconds RetCode: 0 Status: OK PackageFile: MeasurementError.cor_1.76.0.zip PackageFileSize: 74.61 KiB