Package: MantelCorr Version: 1.74.0 Command: rm -rf MantelCorr.buildbin-libdir && mkdir MantelCorr.buildbin-libdir && /Users/biocbuild/BBS/utils/build-universal.sh MantelCorr_1.74.0.tar.gz /Library/Frameworks/R.framework/Resources/bin/R MantelCorr.buildbin-libdir StartedAt: 2024-06-11 11:53:20 -0400 (Tue, 11 Jun 2024) EndedAt: 2024-06-11 11:53:26 -0400 (Tue, 11 Jun 2024) EllapsedTime: 5.4 seconds RetCode: 0 Status: OK PackageFile: MantelCorr_1.74.0.tgz PackageFileSize: 747.5 KiB