Package: MSstatsShiny Version: 1.6.0 Command: /home/biocbuild/R/R-beta-2024-04-15_r86425/bin/R CMD build --keep-empty-dirs --no-resave-data MSstatsShiny StartedAt: 2024-05-09 02:00:22 -0000 (Thu, 09 May 2024) EndedAt: 2024-05-09 02:01:11 -0000 (Thu, 09 May 2024) EllapsedTime: 49.1 seconds RetCode: 0 Status: OK PackageFile: MSstatsShiny_1.6.0.tar.gz PackageFileSize: 2.161 MiB