Package: MSstatsShiny Version: 1.6.2 Command: /Library/Frameworks/R.framework/Resources/bin/R CMD build --keep-empty-dirs --no-resave-data MSstatsShiny StartedAt: 2024-06-10 01:20:35 -0400 (Mon, 10 Jun 2024) EndedAt: 2024-06-10 01:21:45 -0400 (Mon, 10 Jun 2024) EllapsedTime: 70.1 seconds RetCode: 0 Status: OK PackageFile: MSstatsShiny_1.6.2.tar.gz PackageFileSize: 2.16 MiB