Package: MSstatsQC Version: 2.22.0 Command: /Library/Frameworks/R.framework/Resources/bin/R CMD INSTALL MSstatsQC StartedAt: 2024-06-09 16:38:37 -0400 (Sun, 09 Jun 2024) EndedAt: 2024-06-09 16:39:27 -0400 (Sun, 09 Jun 2024) EllapsedTime: 50.2 seconds RetCode: 0 Status: OK