Package: MSnbase Version: 2.30.1 Command: rm -rf MSnbase.buildbin-libdir && mkdir MSnbase.buildbin-libdir && /Users/biocbuild/BBS/utils/build-universal.sh MSnbase_2.30.1.tar.gz /Library/Frameworks/R.framework/Resources/bin/R MSnbase.buildbin-libdir StartedAt: 2024-06-11 12:11:41 -0400 (Tue, 11 Jun 2024) EndedAt: 2024-06-11 12:14:02 -0400 (Tue, 11 Jun 2024) EllapsedTime: 141.3 seconds RetCode: 0 Status: OK PackageFile: MSnbase_2.30.1.tgz PackageFileSize: 9.068 MiB