Package: MLP Version: 1.52.0 Command: rm -rf MLP.buildbin-libdir && mkdir MLP.buildbin-libdir && /Users/biocbuild/BBS/utils/build-universal.sh MLP_1.52.0.tar.gz /Library/Frameworks/R.framework/Resources/bin/R MLP.buildbin-libdir StartedAt: 2024-06-11 12:06:25 -0400 (Tue, 11 Jun 2024) EndedAt: 2024-06-11 12:06:54 -0400 (Tue, 11 Jun 2024) EllapsedTime: 29.0 seconds RetCode: 0 Status: OK PackageFile: MLP_1.52.0.tgz PackageFileSize: 4.338 MiB