Package: MLInterfaces Version: 1.84.0 Command: /home/biocbuild/R/R-beta-2024-04-15_r86425/bin/R CMD INSTALL MLInterfaces StartedAt: 2024-05-08 20:50:07 -0000 (Wed, 08 May 2024) EndedAt: 2024-05-08 20:50:49 -0000 (Wed, 08 May 2024) EllapsedTime: 41.5 seconds RetCode: 0 Status: OK