Package: MLInterfaces Version: 1.84.0 Command: /Library/Frameworks/R.framework/Resources/bin/R CMD build --keep-empty-dirs --no-resave-data MLInterfaces StartedAt: 2024-06-10 00:45:40 -0400 (Mon, 10 Jun 2024) EndedAt: 2024-06-10 00:48:22 -0400 (Mon, 10 Jun 2024) EllapsedTime: 162.5 seconds RetCode: 0 Status: OK PackageFile: MLInterfaces_1.84.0.tar.gz PackageFileSize: 2.806 MiB