Package: LinkHD Version: 1.18.0 Command: /home/biocbuild/R/R-beta-2024-04-15_r86425/bin/R CMD build --keep-empty-dirs --no-resave-data LinkHD StartedAt: 2024-05-09 01:16:23 -0000 (Thu, 09 May 2024) EndedAt: 2024-05-09 01:17:51 -0000 (Thu, 09 May 2024) EllapsedTime: 88.1 seconds RetCode: 0 Status: OK PackageFile: LinkHD_1.18.0.tar.gz PackageFileSize: 1.901 MiB