Package: LedPred Version: 1.38.0 Command: rm -rf LedPred.buildbin-libdir && mkdir LedPred.buildbin-libdir && /Users/biocbuild/BBS/utils/build-universal.sh LedPred_1.38.0.tar.gz /Library/Frameworks/R.framework/Resources/bin/R LedPred.buildbin-libdir StartedAt: 2024-10-18 19:09:12 -0400 (Fri, 18 Oct 2024) EndedAt: 2024-10-18 19:09:37 -0400 (Fri, 18 Oct 2024) EllapsedTime: 25.1 seconds RetCode: 0 Status: OK PackageFile: LedPred_1.38.0.tgz PackageFileSize: 1.686 MiB