Package: LRcell Version: 1.12.0 Command: rm -rf LRcell.buildbin-libdir && mkdir LRcell.buildbin-libdir && /Users/biocbuild/BBS/utils/build-universal.sh LRcell_1.12.0.tar.gz /Library/Frameworks/R.framework/Resources/bin/R LRcell.buildbin-libdir StartedAt: 2024-06-10 00:24:48 -0400 (Mon, 10 Jun 2024) EndedAt: 2024-06-10 00:25:12 -0400 (Mon, 10 Jun 2024) EllapsedTime: 23.9 seconds RetCode: 0 Status: OK PackageFile: LRcell_1.12.0.tgz PackageFileSize: 1.071 MiB