Package: ITALICS Version: 2.64.0 Command: rm -rf ITALICS.buildbin-libdir && mkdir ITALICS.buildbin-libdir && /Users/biocbuild/BBS/utils/build-universal.sh ITALICS_2.64.0.tar.gz /Library/Frameworks/R.framework/Resources/bin/R ITALICS.buildbin-libdir StartedAt: 2024-10-17 16:26:40 -0400 (Thu, 17 Oct 2024) EndedAt: 2024-10-17 16:28:02 -0400 (Thu, 17 Oct 2024) EllapsedTime: 82.1 seconds RetCode: 0 Status: OK PackageFile: ITALICS_2.64.0.tgz PackageFileSize: 554.5 KiB