Package: INTACT Version: 1.4.0 Command: /Library/Frameworks/R.framework/Resources/bin/R CMD build --keep-empty-dirs --no-resave-data INTACT StartedAt: 2024-06-09 23:16:22 -0400 (Sun, 09 Jun 2024) EndedAt: 2024-06-09 23:16:45 -0400 (Sun, 09 Jun 2024) EllapsedTime: 22.7 seconds RetCode: 0 Status: OK PackageFile: INTACT_1.4.0.tar.gz PackageFileSize: 2.43 MiB