Package: Harshlight Version: 1.76.0 Command: rm -rf Harshlight.buildbin-libdir && mkdir Harshlight.buildbin-libdir && /Users/biocbuild/BBS/utils/build-universal.sh Harshlight_1.76.0.tar.gz /Library/Frameworks/R.framework/Resources/bin/R Harshlight.buildbin-libdir StartedAt: 2024-06-10 00:21:47 -0400 (Mon, 10 Jun 2024) EndedAt: 2024-06-10 00:22:07 -0400 (Mon, 10 Jun 2024) EllapsedTime: 20.4 seconds RetCode: 0 Status: OK PackageFile: Harshlight_1.76.0.tgz PackageFileSize: 307.2 KiB