Package: HTqPCR Version: 1.57.0 Command: rm -rf HTqPCR.buildbin-libdir && mkdir HTqPCR.buildbin-libdir && /Users/biocbuild/BBS/utils/build-universal.sh HTqPCR_1.57.0.tar.gz /Library/Frameworks/R.framework/Resources/bin/R HTqPCR.buildbin-libdir StartedAt: 2024-03-02 13:40:58 -0500 (Sat, 02 Mar 2024) EndedAt: 2024-03-02 13:41:19 -0500 (Sat, 02 Mar 2024) EllapsedTime: 20.3 seconds RetCode: 0 Status: OK PackageFile: HTqPCR_1.57.0.tgz PackageFileSize: 2.459 MiB