Package: GraphPAC Version: 1.46.0 Command: /home/biocbuild/bbs-3.19-bioc/R/bin/R CMD build --keep-empty-dirs --no-resave-data GraphPAC StartedAt: 2024-10-16 18:50:43 -0400 (Wed, 16 Oct 2024) EndedAt: 2024-10-16 18:52:00 -0400 (Wed, 16 Oct 2024) EllapsedTime: 77.1 seconds RetCode: 0 Status: OK PackageFile: GraphPAC_1.46.0.tar.gz PackageFileSize: 540.2 KiB