Package: GOSim Version: 1.42.0 Maintainer: Holger Froehlich MaintainerEmail: frohlich at bit.uni-bonn.de git_url: https://git.bioconductor.org/packages/GOSim git_branch: RELEASE_3_19 git_last_commit: b54cb57 git_last_commit_date: 2024-04-30 10:33:28 -0400 (Tue, 30 Apr 2024)