Package: GEOquery Version: 2.72.0 Command: /Library/Frameworks/R.framework/Resources/bin/R CMD INSTALL GEOquery StartedAt: 2024-06-09 15:06:24 -0400 (Sun, 09 Jun 2024) EndedAt: 2024-06-09 15:06:47 -0400 (Sun, 09 Jun 2024) EllapsedTime: 23.8 seconds RetCode: 0 Status: OK