Package: FamAgg Version: 1.32.0 Command: rm -rf FamAgg.buildbin-libdir && mkdir FamAgg.buildbin-libdir && /Users/biocbuild/BBS/utils/build-universal.sh FamAgg_1.32.0.tar.gz /Library/Frameworks/R.framework/Resources/bin/R FamAgg.buildbin-libdir StartedAt: 2024-06-11 11:12:20 -0400 (Tue, 11 Jun 2024) EndedAt: 2024-06-11 11:12:49 -0400 (Tue, 11 Jun 2024) EllapsedTime: 29.3 seconds RetCode: 0 Status: OK PackageFile: FamAgg_1.32.0.tgz PackageFileSize: 2.137 MiB