Package: ExCluster Version: 1.22.0 Command: /Library/Frameworks/R.framework/Resources/bin/R CMD build --keep-empty-dirs --no-resave-data ExCluster StartedAt: 2024-10-16 19:09:41 -0400 (Wed, 16 Oct 2024) EndedAt: 2024-10-16 19:11:40 -0400 (Wed, 16 Oct 2024) EllapsedTime: 119.8 seconds RetCode: 0 Status: OK PackageFile: ExCluster_1.22.0.tar.gz PackageFileSize: 404.7 KiB