Package: EventPointer Version: 3.12.0 Command: chmod a+r EventPointer -R && F:\biocbuild\bbs-3.19-bioc\R\bin\R.exe CMD build --keep-empty-dirs --no-resave-data EventPointer StartedAt: 2024-06-26 18:45:36 -0400 (Wed, 26 Jun 2024) EndedAt: 2024-06-26 18:47:19 -0400 (Wed, 26 Jun 2024) EllapsedTime: 103.4 seconds RetCode: 0 Status: OK PackageFile: EventPointer_3.12.0.tar.gz PackageFileSize: 1.642 MiB