Package: EnrichmentBrowser Version: 2.34.1 Command: /Library/Frameworks/R.framework/Resources/bin/R CMD INSTALL EnrichmentBrowser StartedAt: 2024-10-16 16:19:35 -0400 (Wed, 16 Oct 2024) EndedAt: 2024-10-16 16:20:14 -0400 (Wed, 16 Oct 2024) EllapsedTime: 39.1 seconds RetCode: 0 Status: OK