Package: EnrichmentBrowser Version: 2.34.1 Command: /Library/Frameworks/R.framework/Resources/bin/R CMD build --keep-empty-dirs --no-resave-data EnrichmentBrowser StartedAt: 2024-10-16 23:57:25 -0400 (Wed, 16 Oct 2024) EndedAt: 2024-10-17 00:00:02 -0400 (Thu, 17 Oct 2024) EllapsedTime: 157.0 seconds RetCode: 0 Status: OK PackageFile: EnrichmentBrowser_2.34.1.tar.gz PackageFileSize: 1.662 MiB