Package: EnrichmentBrowser Version: 2.34.1 Command: rm -rf EnrichmentBrowser.buildbin-libdir && mkdir EnrichmentBrowser.buildbin-libdir && /Users/biocbuild/BBS/utils/build-universal.sh EnrichmentBrowser_2.34.1.tar.gz /Library/Frameworks/R.framework/Resources/bin/R EnrichmentBrowser.buildbin-libdir StartedAt: 2024-10-18 18:20:16 -0400 (Fri, 18 Oct 2024) EndedAt: 2024-10-18 18:21:04 -0400 (Fri, 18 Oct 2024) EllapsedTime: 47.9 seconds RetCode: 0 Status: OK PackageFile: EnrichmentBrowser_2.34.1.tgz PackageFileSize: 1.864 MiB