Package: EnhancedVolcano Version: 1.22.0 Command: /Library/Frameworks/R.framework/Resources/bin/R CMD build --keep-empty-dirs --no-resave-data EnhancedVolcano StartedAt: 2024-10-16 23:54:28 -0400 (Wed, 16 Oct 2024) EndedAt: 2024-10-16 23:56:14 -0400 (Wed, 16 Oct 2024) EllapsedTime: 106.1 seconds RetCode: 0 Status: OK PackageFile: EnhancedVolcano_1.22.0.tar.gz PackageFileSize: 9.935 MiB