Package: EnMCB Version: 1.16.0 Command: /home/biocbuild/R/R-beta-2024-04-15_r86425/bin/R CMD INSTALL EnMCB StartedAt: 2024-05-08 20:51:45 -0000 (Wed, 08 May 2024) EndedAt: 2024-05-08 20:52:03 -0000 (Wed, 08 May 2024) EllapsedTime: 18.0 seconds RetCode: 0 Status: OK