Package: EnMCB Version: 1.16.0 Command: /Library/Frameworks/R.framework/Resources/bin/R CMD build --keep-empty-dirs --no-resave-data EnMCB StartedAt: 2024-06-09 21:06:31 -0400 (Sun, 09 Jun 2024) EndedAt: 2024-06-09 21:08:10 -0400 (Sun, 09 Jun 2024) EllapsedTime: 98.8 seconds RetCode: 0 Status: OK PackageFile: EnMCB_1.16.0.tar.gz PackageFileSize: 4.929 MiB