Package: DelayedDataFrame Version: 1.20.0 Command: /home/biocbuild/R/R-beta-2024-04-15_r86425/bin/R CMD check --install=check:DelayedDataFrame.install-out.txt --library=/home/biocbuild/R/R-beta-2024-04-15_r86425/site-library --no-vignettes --timings DelayedDataFrame_1.20.0.tar.gz StartedAt: 2024-05-09 06:38:01 -0000 (Thu, 09 May 2024) EndedAt: 2024-05-09 06:40:34 -0000 (Thu, 09 May 2024) EllapsedTime: 152.2 seconds RetCode: 0 Status: OK CheckDir: DelayedDataFrame.Rcheck Warnings: 0