Package: DExMA Version: 1.12.0 Command: /Library/Frameworks/R.framework/Resources/bin/R CMD build --keep-empty-dirs --no-resave-data DExMA StartedAt: 2024-06-09 20:38:23 -0400 (Sun, 09 Jun 2024) EndedAt: 2024-06-09 20:39:32 -0400 (Sun, 09 Jun 2024) EllapsedTime: 69.4 seconds RetCode: 0 Status: OK PackageFile: DExMA_1.12.0.tar.gz PackageFileSize: 315 KiB