Package: CoreGx Version: 2.8.0 Command: /home/biocbuild/bbs-3.19-bioc/R/bin/R CMD INSTALL CoreGx StartedAt: 2024-10-16 16:30:37 -0400 (Wed, 16 Oct 2024) EndedAt: 2024-10-16 16:31:13 -0400 (Wed, 16 Oct 2024) EllapsedTime: 35.8 seconds RetCode: 0 Status: OK