Package: CoreGx Version: 2.8.0 Command: /home/biocbuild/bbs-3.19-bioc/R/bin/R CMD build --keep-empty-dirs --no-resave-data CoreGx StartedAt: 2024-10-16 17:57:33 -0400 (Wed, 16 Oct 2024) EndedAt: 2024-10-16 17:58:27 -0400 (Wed, 16 Oct 2024) EllapsedTime: 54.1 seconds RetCode: 0 Status: OK PackageFile: CoreGx_2.8.0.tar.gz PackageFileSize: 1.364 MiB