Package: CoreGx Version: 2.8.0 Command: rm -rf CoreGx.buildbin-libdir && mkdir CoreGx.buildbin-libdir && /Users/biocbuild/BBS/utils/build-universal.sh CoreGx_2.8.0.tar.gz /Library/Frameworks/R.framework/Resources/bin/R CoreGx.buildbin-libdir StartedAt: 2024-06-10 00:12:53 -0400 (Mon, 10 Jun 2024) EndedAt: 2024-06-10 00:13:48 -0400 (Mon, 10 Jun 2024) EllapsedTime: 55.0 seconds RetCode: 0 Status: OK PackageFile: CoreGx_2.8.0.tgz PackageFileSize: 2.427 MiB