Package: CoreGx Version: 2.8.0 Command: /Library/Frameworks/R.framework/Resources/bin/R CMD INSTALL CoreGx StartedAt: 2024-06-09 16:57:17 -0400 (Sun, 09 Jun 2024) EndedAt: 2024-06-09 16:58:07 -0400 (Sun, 09 Jun 2024) EllapsedTime: 50.6 seconds RetCode: 0 Status: OK