Package: ChemmineOB Version: 1.42.0 Command: /home/biocbuild/R/R-beta-2024-04-15_r86425/bin/R CMD INSTALL ChemmineOB StartedAt: 2024-05-08 20:04:24 -0000 (Wed, 08 May 2024) EndedAt: 2024-05-08 20:07:11 -0000 (Wed, 08 May 2024) EllapsedTime: 167.3 seconds RetCode: 0 Status: OK