Package: CONFESS Version: 1.32.0 Command: /Library/Frameworks/R.framework/Resources/bin/R CMD build --keep-empty-dirs --no-resave-data CONFESS StartedAt: 2024-06-09 16:17:25 -0400 (Sun, 09 Jun 2024) EndedAt: 2024-06-09 16:21:20 -0400 (Sun, 09 Jun 2024) EllapsedTime: 235.1 seconds RetCode: 1 Status: ERROR PackageFile: None PackageFileSize: NA