Package: CONFESS Version: 1.32.0 Command: /home/biocbuild/R/R-beta-2024-04-15_r86425/bin/R CMD build --keep-empty-dirs --no-resave-data CONFESS StartedAt: 2024-05-08 23:31:02 -0000 (Wed, 08 May 2024) EndedAt: 2024-05-08 23:35:00 -0000 (Wed, 08 May 2024) EllapsedTime: 238.3 seconds RetCode: 0 Status: OK PackageFile: CONFESS_1.32.0.tar.gz PackageFileSize: 3.596 MiB