Package: COMPASS Version: 1.42.0 Command: rm -rf COMPASS.buildbin-libdir && mkdir COMPASS.buildbin-libdir && /Users/biocbuild/BBS/utils/build-universal.sh COMPASS_1.42.0.tar.gz /Library/Frameworks/R.framework/Resources/bin/R COMPASS.buildbin-libdir StartedAt: 2024-10-18 17:53:55 -0400 (Fri, 18 Oct 2024) EndedAt: 2024-10-18 17:54:21 -0400 (Fri, 18 Oct 2024) EllapsedTime: 25.8 seconds RetCode: 0 Status: OK PackageFile: COMPASS_1.42.0.tgz PackageFileSize: 1.418 MiB