Package: CNTools Version: 1.60.0 Command: /home/biocbuild/R/R-beta-2024-04-15_r86425/bin/R CMD build --keep-empty-dirs --no-resave-data CNTools StartedAt: 2024-05-08 23:25:22 -0000 (Wed, 08 May 2024) EndedAt: 2024-05-08 23:25:57 -0000 (Wed, 08 May 2024) EllapsedTime: 35.1 seconds RetCode: 0 Status: OK PackageFile: CNTools_1.60.0.tar.gz PackageFileSize: 954.5 KiB