Package: CNTools Version: 1.60.0 Command: /Library/Frameworks/R.framework/Resources/bin/R CMD build --keep-empty-dirs --no-resave-data CNTools StartedAt: 2024-06-09 19:42:24 -0400 (Sun, 09 Jun 2024) EndedAt: 2024-06-09 19:43:02 -0400 (Sun, 09 Jun 2024) EllapsedTime: 37.7 seconds RetCode: 0 Status: OK PackageFile: CNTools_1.60.0.tar.gz PackageFileSize: 958.4 KiB