Package: CINdex Version: 1.32.0 Command: /Library/Frameworks/R.framework/Resources/bin/R CMD build --keep-empty-dirs --no-resave-data CINdex StartedAt: 2024-10-16 21:34:12 -0400 (Wed, 16 Oct 2024) EndedAt: 2024-10-16 21:40:09 -0400 (Wed, 16 Oct 2024) EllapsedTime: 356.3 seconds RetCode: 0 Status: OK PackageFile: CINdex_1.32.0.tar.gz PackageFileSize: 12.58 MiB