Package: CHRONOS Version: 1.32.0 Command: /Library/Frameworks/R.framework/Resources/bin/R CMD build --keep-empty-dirs --no-resave-data CHRONOS StartedAt: 2024-10-16 17:57:20 -0400 (Wed, 16 Oct 2024) EndedAt: 2024-10-16 17:58:41 -0400 (Wed, 16 Oct 2024) EllapsedTime: 81.8 seconds RetCode: 0 Status: OK PackageFile: CHRONOS_1.32.0.tar.gz PackageFileSize: 1.118 MiB