Package: BiocVersion Version: 3.19.1 Command: rm -rf BiocVersion.buildbin-libdir && mkdir BiocVersion.buildbin-libdir && /Users/biocbuild/BBS/utils/build-universal.sh BiocVersion_3.19.1.tar.gz /Library/Frameworks/R.framework/Resources/bin/R BiocVersion.buildbin-libdir StartedAt: 2024-06-10 00:08:36 -0400 (Mon, 10 Jun 2024) EndedAt: 2024-06-10 00:08:41 -0400 (Mon, 10 Jun 2024) EllapsedTime: 4.6 seconds RetCode: 0 Status: OK PackageFile: BiocVersion_3.19.1.tgz PackageFileSize: 5.629 KiB