Package: BiocVersion Version: 3.19.1 Command: /Library/Frameworks/R.framework/Resources/bin/R CMD INSTALL BiocVersion StartedAt: 2024-06-09 15:03:30 -0400 (Sun, 09 Jun 2024) EndedAt: 2024-06-09 15:03:33 -0400 (Sun, 09 Jun 2024) EllapsedTime: 2.3 seconds RetCode: 0 Status: OK