Package: BiocVersion Version: 3.19.1 Command: rm -rf BiocVersion.buildbin-libdir && mkdir BiocVersion.buildbin-libdir && /Users/biocbuild/BBS/utils/build-universal.sh BiocVersion_3.19.1.tar.gz /Library/Frameworks/R.framework/Resources/bin/R BiocVersion.buildbin-libdir StartedAt: 2024-06-11 10:19:53 -0400 (Tue, 11 Jun 2024) EndedAt: 2024-06-11 10:19:59 -0400 (Tue, 11 Jun 2024) EllapsedTime: 5.7 seconds RetCode: 0 Status: OK PackageFile: BiocVersion_3.19.1.tgz PackageFileSize: 5.651 KiB